

BEGIN:VCALENDAR
VERSION:2.0
PRODID:-//eventon.com NONSGML v1.0//EN
CALSCALE:GREGORIAN
METHOD:PUBLISH
BEGIN:VEVENT
UID:69e7395da6bf5
DTSTAMP:20260421T084621Z
DTSTART:20261126T080000Z
DTEND:20261126T170000Z
LOCATION:Novotel Hannover Podbielskistraße 21/23\,  30163 Hannover\,  Germany
SUMMARY:DATA DREAMLAND - CONFERENCE - NOVEMBER 26\,  2026
DESCRIPTION:Be part of the live event and enjoy the Data Dreamland Conferen
 ce 2026: Length: 1 day Price: 289 € + VAT Language: English &nbsp; This t
 icket includes: event participation for 1 day food and beverages during the
  event an optional evening activity &nbsp; You will be able to choose durin
 g[..]\nhttps://www.scalefree.com/events/data-dreamland-november-2026/
URL:https://www.scalefree.com/events/data-dreamland-november-2026/
END:VEVENT
END:VCALENDAR